BEGIN:VCALENDAR
VERSION:2.0
PRODID:-//jEvents 2.0 for Joomla//EN
CALSCALE:GREGORIAN
METHOD:PUBLISH
BEGIN:VTIMEZONE
TZID:Europe/Rome
BEGIN:STANDARD
DTSTART:20211031T020000
RDATE:20220327T030000
TZOFFSETFROM:+0200
TZOFFSETTO:+0100
TZNAME:Europe/Rome CET
END:STANDARD
BEGIN:STANDARD
DTSTART:20221030T020000
RDATE:20230326T030000
TZOFFSETFROM:+0200
TZOFFSETTO:+0100
TZNAME:Europe/Rome CET
END:STANDARD
BEGIN:STANDARD
DTSTART:20231029T020000
RDATE:20240331T030000
TZOFFSETFROM:+0200
TZOFFSETTO:+0100
TZNAME:Europe/Rome CET
END:STANDARD
BEGIN:STANDARD
DTSTART:20241027T020000
RDATE:20250330T030000
TZOFFSETFROM:+0200
TZOFFSETTO:+0100
TZNAME:Europe/Rome CET
END:STANDARD
BEGIN:STANDARD
DTSTART:20251026T020000
RDATE:20260329T030000
TZOFFSETFROM:+0200
TZOFFSETTO:+0100
TZNAME:Europe/Rome CET
END:STANDARD
BEGIN:STANDARD
DTSTART:20261025T020000
RDATE:20270328T030000
TZOFFSETFROM:+0200
TZOFFSETTO:+0100
TZNAME:Europe/Rome CET
END:STANDARD
BEGIN:STANDARD
DTSTART:20271031T020000
RDATE:20280326T030000
TZOFFSETFROM:+0200
TZOFFSETTO:+0100
TZNAME:Europe/Rome CET
END:STANDARD
BEGIN:STANDARD
DTSTART:20281029T020000
RDATE:20290325T030000
TZOFFSETFROM:+0200
TZOFFSETTO:+0100
TZNAME:Europe/Rome CET
END:STANDARD
BEGIN:STANDARD
DTSTART:20291028T020000
RDATE:20300331T030000
TZOFFSETFROM:+0200
TZOFFSETTO:+0100
TZNAME:Europe/Rome CET
END:STANDARD
BEGIN:STANDARD
DTSTART:20301027T020000
RDATE:20310330T030000
TZOFFSETFROM:+0200
TZOFFSETTO:+0100
TZNAME:Europe/Rome CET
END:STANDARD
BEGIN:STANDARD
DTSTART:20311026T020000
RDATE:20320328T030000
TZOFFSETFROM:+0200
TZOFFSETTO:+0100
TZNAME:Europe/Rome CET
END:STANDARD
BEGIN:DAYLIGHT
DTSTART:20210630T093000
RDATE:20211031T020000
TZOFFSETFROM:+0100
TZOFFSETTO:+0200
TZNAME:Europe/Rome CEST
END:DAYLIGHT
BEGIN:DAYLIGHT
DTSTART:20220327T030000
RDATE:20221030T020000
TZOFFSETFROM:+0100
TZOFFSETTO:+0200
TZNAME:Europe/Rome CEST
END:DAYLIGHT
BEGIN:DAYLIGHT
DTSTART:20230326T030000
RDATE:20231029T020000
TZOFFSETFROM:+0100
TZOFFSETTO:+0200
TZNAME:Europe/Rome CEST
END:DAYLIGHT
BEGIN:DAYLIGHT
DTSTART:20240331T030000
RDATE:20241027T020000
TZOFFSETFROM:+0100
TZOFFSETTO:+0200
TZNAME:Europe/Rome CEST
END:DAYLIGHT
BEGIN:DAYLIGHT
DTSTART:20250330T030000
RDATE:20251026T020000
TZOFFSETFROM:+0100
TZOFFSETTO:+0200
TZNAME:Europe/Rome CEST
END:DAYLIGHT
BEGIN:DAYLIGHT
DTSTART:20260329T030000
RDATE:20261025T020000
TZOFFSETFROM:+0100
TZOFFSETTO:+0200
TZNAME:Europe/Rome CEST
END:DAYLIGHT
BEGIN:DAYLIGHT
DTSTART:20270328T030000
RDATE:20271031T020000
TZOFFSETFROM:+0100
TZOFFSETTO:+0200
TZNAME:Europe/Rome CEST
END:DAYLIGHT
BEGIN:DAYLIGHT
DTSTART:20280326T030000
RDATE:20281029T020000
TZOFFSETFROM:+0100
TZOFFSETTO:+0200
TZNAME:Europe/Rome CEST
END:DAYLIGHT
BEGIN:DAYLIGHT
DTSTART:20290325T030000
RDATE:20291028T020000
TZOFFSETFROM:+0100
TZOFFSETTO:+0200
TZNAME:Europe/Rome CEST
END:DAYLIGHT
BEGIN:DAYLIGHT
DTSTART:20300331T030000
RDATE:20301027T020000
TZOFFSETFROM:+0100
TZOFFSETTO:+0200
TZNAME:Europe/Rome CEST
END:DAYLIGHT
BEGIN:DAYLIGHT
DTSTART:20310330T030000
RDATE:20311026T020000
TZOFFSETFROM:+0100
TZOFFSETTO:+0200
TZNAME:Europe/Rome CEST
END:DAYLIGHT
END:VTIMEZONE
BEGIN:VEVENT
UID:28ccc1371e825ef9f07f75d7f9548c83
CATEGORIES:Verso Venezia 2022, Lucia Piani, Udine
CREATED:20220620T165554
SUMMARY:L'Università trasformativa e trasformata
LOCATION:Udine\, Polo Rizzi\, Aula alfa 1\, via delle Scienze
DESCRIPTION;ENCODING=QUOTED-PRINTABLE:<p><b>L'UNIVERSITÀ </b><b>TRASFORMATIVA </b><b>E TRASFORMATA</b><b>: </b><b
 >PROCESSI DI SVILUPPO E RUOLO DELLE UNIVERSITÀ </b></p><p><b><span style="f
 ont-weight: 400;">Il seminario vuole aprire un dibattito sul </span><span s
 tyle="font-weight: 400;">tema del ruolo dell'Università nei processi di svi
 luppo a livello territoriale guardando </span><span style="font-weight: 400
 ;">all'esperienza di altre Università in </span><span style="font-weight: 4
 00;">particolare dell'America Latina. </span></b></p><p><b><span style="fon
 t-weight: 400;">Avremo con noi docenti dell'Argentina e del </span><span st
 yle="font-weight: 400;">Brasile con cui potremo confrontarci sia </span><sp
 an style="font-weight: 400;">sui temi della terza missione (estensione in <
 /span><span style="font-weight: 400;">America Latina sia sui progetti di ec
 onomia solidale che le Università portano avanti in </span><span style="fon
 t-weight: 400;">varie aree dei rispettivi paesi. </span></b></p><p><b><span
  style="font-weight: 400;">Durante la mattinata verrà offerta una pausa caf
 fè con i prodotti dell'economia solidale. </span></b></p><p><b><span style=
 "font-weight: 400;">Qui <a href="images/Evento%201%20luglio.pdf" target="_b
 lank" rel="noopener">la locandina dell'evento</a>.</span></b></p> This even
 t was imported from: https://venezia2022.it/verso-venezia/eventi/dettagliev
 ento/36/-/luniversita-trasformativa-e-trasformata?tmpl=component
CONTACT:Questo indirizzo email è protetto dagli spambots. È necessario abilitare JavaScript per vederlo.
DTSTAMP:20260423T043011Z
DTSTART;TZID=Europe/Rome:20220701T093000
DTEND;TZID=Europe/Rome:20220701T130000
SEQUENCE:0
TRANSP:OPAQUE
END:VEVENT
END:VCALENDAR